BEGIN:VCALENDAR
VERSION:2.0
PRODID:-//wp-events-plugin.com//7.2.3.1//EN
TZID:Europe/Dublin
X-WR-TIMEZONE:Europe/Dublin
BEGIN:VEVENT
UID:35@thepmi.com
DTSTART;TZID=Europe/Dublin:20251203T093000
DTEND;TZID=Europe/Dublin:20251203T160000
DTSTAMP:20251202T235830Z
URL:https://thepmi.com/events/masterclass-ai-in-healthcare/
SUMMARY:Masterclass - The AI Advantage
DESCRIPTION: This full-day masterclass will show you how to turn AI from a 
 concept into a competitive advantage — helping you work smarter\, accele
 rate delivery\, and maintain the highest standards of quality and complian
 ce.  This masterclass will be a mix of expert speakers and a highly practi
 cal\, hands-on workshop led by AgencyX and Combined Media. 
ATTACH;FMTTYPE=image/jpeg:https://thepmi.com/wp-content/uploads/2024/07/Ma
 sterclass.webp
CATEGORIES:Masterclasses
LOCATION:Irish Management Institute\, Sandyford\, Dublin\, Ireland
X-APPLE-STRUCTURED-LOCATION;VALUE=URI;X-ADDRESS=Sandyford\, Dublin\, Irelan
 d;X-APPLE-RADIUS=100;X-TITLE=Irish Management Institute:geo:0,0
END:VEVENT
BEGIN:VTIMEZONE
TZID:Europe/Dublin
X-LIC-LOCATION:Europe/Dublin
BEGIN:DAYLIGHT
DTSTART:20251026T010000
TZOFFSETFROM:+0100
TZOFFSETTO:+0000
TZNAME:GMT
END:DAYLIGHT
END:VTIMEZONE
END:VCALENDAR